BEGIN:VCALENDAR
VERSION:2.0
PRODID:-//eventon.com NONSGML v1.0//EN
CALSCALE:GREGORIAN
METHOD:PUBLISH
BEGIN:VEVENT
UID:69e73e03e8f43
DTSTAMP:20260421T090611Z
DTSTART:20200418T100000Z
DTEND:20200418T160000Z
LOCATION:
SUMMARY:POSTPONED-Open Studios Art Tour
DESCRIPTION:Due to the current COVID-19 outbreak and Shelter in Place Order
 \,  our annual Open Studios Art Tour has been postponed. Stay tuned for Op
 en Studios event changes &amp; other Arts Council updates.\nhttps://www.san
 benitoarts.org/events/open-studios-art-tour/
URL:https://www.sanbenitoarts.org/events/open-studios-art-tour/
END:VEVENT
END:VCALENDAR