BEGIN:VCALENDAR
VERSION:2.0
PRODID:-//eventon.com NONSGML v1.0//EN
CALSCALE:GREGORIAN
METHOD:PUBLISH
BEGIN:VEVENT
UID:69eafe852d6b9
DTSTAMP:20260424T052421Z
DTSTART:20200715T100000Z
DTEND:20200715T104500Z
LOCATION:
SUMMARY:SUMMER ART CAMP: Self Portraits (ages 5-7)
DESCRIPTION:Summer Art Camp is a great way for students to try different ar
 tistic styles\,  mediums and techniques in a condensed 3-day\,  online work
 shop format. This camp is recommended for ages 5-7 and will meet from 1
 0 am-10:45 am on Tuesday\,  Wednesday\,  and Thursday\,  July 14th-July 16t
 h. In this camp\,  taught by artist Rebecca Pearson\, [..]\nhttps://www.san
 benitoarts.org/events/summer-art-camp-self-portraits-ages-5-7/var/ri-1.l-L1
URL:https://www.sanbenitoarts.org/events/summer-art-camp-self-portraits-ages-5-7/var/ri-1.l-L1
END:VEVENT
END:VCALENDAR