BEGIN:VCALENDAR
VERSION:2.0
PRODID:-//eventon.com NONSGML v1.0//EN
CALSCALE:GREGORIAN
METHOD:PUBLISH
BEGIN:VEVENT
UID:69e8766093068
DTSTAMP:20260422T071856Z
DTSTART:20210417T170000Z
DTEND:20210418T065000Z
LOCATION:
SUMMARY:Art & Healing Teacher Workshop: Literary Arts
DESCRIPTION:Join us for a FREE Art &amp; Healing PD Workshop: Visual Arts a
 nd Literacy presented by LitWits! Saturday\,  Apr. 17th\,  10-11:30 am on 
 Zoom Workshops are open to all Teaching Artists\,  Classroom Teachers &amp
 ; Community Leaders working with youth. These virtual\,  engaging workshops
  will offer art-making\,  community building and strategies to engage[..]\n
 https://www.sanbenitoarts.org/events/art-healing-teacher-workshop-literary-
 arts/
URL:https://www.sanbenitoarts.org/events/art-healing-teacher-workshop-literary-arts/
END:VEVENT
END:VCALENDAR