BEGIN:VCALENDAR
VERSION:2.0
PRODID:-//eventon.com NONSGML v1.0//EN
CALSCALE:GREGORIAN
METHOD:PUBLISH
BEGIN:VEVENT
UID:69e6d6038d11b
DTSTAMP:20260421T014227Z
DTSTART:20210318T010000Z
DTEND:20210318T020000Z
LOCATION:https://us02web.zoom.us/j/84939126351
SUMMARY:Arts Express! Grant Virtual Workshop
DESCRIPTION:Come learn more about our Arts Express! Grant Program and find
  out how to apply for project based grants up to $5\, 000. This grant progr
 am is open to San Benito based artists\,  art groups\,  art &amp; cultural 
 organizations\,  arts based businesses and teachers. The workshop will take
  place on Zoom. More[..]\nhttps://www.sanbenitoarts.org/events/arts-express
 -grant-virtual-workshop/var/event_access
URL:https://www.sanbenitoarts.org/events/arts-express-grant-virtual-workshop/var/event_access
END:VEVENT
END:VCALENDAR