BEGIN:VCALENDAR
VERSION:2.0
PRODID:-//eventon.com NONSGML v1.0//EN
CALSCALE:GREGORIAN
METHOD:PUBLISH
BEGIN:VEVENT
UID:69eccf0ee51fe
DTSTAMP:20260425T142622Z
DTSTART:20240209T020000Z
DTEND:20240209T075000Z
LOCATION:Art Depot 35 5th Street\,  Ste D
SUMMARY:Poetry Out Loud Competition
DESCRIPTION:The San Benito County Arts Council invites the community to Po
 etry Out Loud\,  a national poetry recitation contest. Attend this year’s
  competition on Thursday\,  February 8th at 6 PM at the Art Depot and w
 atch local high school students compete in the San Benito County Finals. FR
 EE event\,  all welcome! Details HERE.\nhttps://www.sanbenitoarts.org/event
 s/poetry-out-loud-competition/
URL:https://www.sanbenitoarts.org/events/poetry-out-loud-competition/
END:VEVENT
END:VCALENDAR