BEGIN:VCALENDAR
VERSION:2.0
PRODID:-//eventon.com NONSGML v1.0//EN
CALSCALE:GREGORIAN
METHOD:PUBLISH
BEGIN:VEVENT
UID:69ecf97b772cc
DTSTAMP:20260425T172723Z
DTSTART:20240415T170000Z
DTEND:20240507T060000Z
LOCATION:
SUMMARY:Call for Art: Summer Exhibition
DESCRIPTION:Apply to participate in our upcoming summer art exhibition! We 
 are currently accepting submissions for California Dreamin’\,  an exhib
 ition of visual artworks focused on summer nostalgia\,  created by local an
 d regional artists. This exhibition will be displayed at our  Art Depot\, 
  35 5th St. in downtown Hollister. &nbsp; Exhibition details\,  important 
 dates\,  and[..]\nhttps://www.sanbenitoarts.org/events/call-for-art-summer-
 exhibition/
URL:https://www.sanbenitoarts.org/events/call-for-art-summer-exhibition/
END:VEVENT
END:VCALENDAR