BEGIN:VCALENDAR
VERSION:2.0
PRODID:-//eventon.com NONSGML v1.0//EN
CALSCALE:GREGORIAN
METHOD:PUBLISH
BEGIN:VEVENT
UID:69eb38ebcf687
DTSTAMP:20260424T093331Z
DTSTART:20240625
DTEND:20240626
LOCATION:Art Depot 35 5th Street\,  Ste D
SUMMARY:Summer Art Camp: Paint Parties
DESCRIPTION:This summer camp meets 3 consecutive days  at the Art Depot\,
   35 5th Street\,  in downtown Hollister. Paint Party Camp includes hands-o
 n studio time during which students will learn how to mix primary colors wi
 th tints\,  tones and shades to create 3 different works of art. They will 
 follow step by[..]\nhttps://www.sanbenitoarts.org/events/summer-art-camp-pa
 int-parties/
URL:https://www.sanbenitoarts.org/events/summer-art-camp-paint-parties/
END:VEVENT
END:VCALENDAR