BEGIN:VCALENDAR
VERSION:2.0
PRODID:-//eventon.com NONSGML v1.0//EN
CALSCALE:GREGORIAN
METHOD:PUBLISH
BEGIN:VEVENT
UID:69e4fa25ccc13
DTSTAMP:20260419T155205Z
DTSTART:20241123T030000Z
DTEND:20241123T070000Z
LOCATION:
SUMMARY:Autumn Latin Night: Dance Party
DESCRIPTION:Get ready to spice up your autumn with our pre-holiday Latin Da
 nce Party! Learn Salsa &amp; Bachata in a fun and social atmosphere. Sign
  up Here\nhttps://www.sanbenitoarts.org/events/autumn-latin-night-dance-par
 ty/
URL:https://www.sanbenitoarts.org/events/autumn-latin-night-dance-party/
END:VEVENT
END:VCALENDAR